BEGIN:VCALENDAR
VERSION:2.0
PRODID:-//ChamberMaster//Event Calendar 2.0//EN
METHOD:PUBLISH
X-PUBLISHED-TTL:P3D
REFRESH-INTERVAL:P3D
CALSCALE:GREGORIAN
BEGIN:VEVENT
DTSTART:20260424T130000Z
DTEND:20260725T160000Z
X-MICROSOFT-CDO-ALLDAYEVENT:FALSE
SUMMARY:WSW Christmas in July Raffle
DESCRIPTION:Purchase your ticket for a chance to win during WSW's 12 Days of Christmas in July Raffle! Each ticket gives you one entry for 12 days of exciting prizes. Be sure to include your name\, phone number\, and email address on each ticket so we can contact you if you win. Drawings will take place Monday\, July 13 through Saturday\, July 25\, 2026. Please note: There will be no drawing on Sunday\, July 19\, 2026. One winner will be selected each day\, and all winners will be notified by phone and email. Once a ticket is drawn\, it is immediately removed from the pool and is no longer eligible for any additional prizes. Keep an eye on our #WSWdelmarva social media pages to see each day's featured prize. Some of this year's prizes include:   Gift cards to local restaurants and businesses.   A two night stay at The Alexandria Hotel\, including parking in Alexandria VA.   A Lagos Pink Caviar Silver and Pink Ceramic Beaded Necklace.   Tickets to historic Philadelphia attractions such as the Betsy Ross House\, the Carousel\, and mini golf in Franklin Square   And many more exciting items! Tickets available by stopping by the WSW Office or Calling 410-548-7880 and available at the following link: https://womensupportingwomen.harnessgiving.org/events/3862
X-ALT-DESC;FMTTYPE=text/html:Purchase your ticket for a chance to win during WSW&rsquo\;s 12 Days of Christmas in July Raffle! Each ticket gives you one entry for 12 days of exciting prizes. Be sure to include your name\, phone number\, and email address on each ticket so we can contact you if you win. Drawings will take place Monday\, July 13 through Saturday\, July 25\, 2026. Please note: There will be no drawing on Sunday\, July 19\, 2026. One winner will be selected each day\, and all winners will be notified by phone and email. Once a ticket is drawn\, it is immediately removed from the pool and is no longer eligible for any additional prizes. Keep an eye on our #WSWdelmarva social media pages to see each day&rsquo\;s featured prize. Some of this year&rsquo\;s prizes include: &bull\; Gift cards to local restaurants and businesses. &bull\; A two night stay at The Alexandria Hotel\, including parking in Alexandria VA. &bull\; A Lagos Pink Caviar Silver and Pink Ceramic Beaded Necklace. &bull\; Tickets to historic Philadelphia attractions such as the Betsy Ross House\, the Carousel\, and mini golf in Franklin Square &bull\; And many more exciting items! Tickets available by stopping by the WSW Office or Calling 410-548-7880 and available at the following link: <a href="https://womensupportingwomen.harnessgiving.org/events/3862"><span style="color:#0000FF\;">https://womensupportingwomen.harnessgiving.org/events/3862</span></a><br />\n&nbsp\;
LOCATION:Women Supporting Women 1320 Belmont Ave. Suite 402 Salisbury\, MD. 21804
UID:e.3422.16728
SEQUENCE:3
DTSTAMP:20260422T235752Z
URL:https://www.dorchesterchamber.org/events/details/wsw-christmas-in-july-raffle-16728
END:VEVENT

END:VCALENDAR
