BEGIN:VCALENDAR
VERSION:2.0
PRODID:-//ChamberMaster//Event Calendar 2.0//EN
METHOD:PUBLISH
X-PUBLISHED-TTL:P3D
REFRESH-INTERVAL:P3D
CALSCALE:GREGORIAN
BEGIN:VEVENT
DTSTART:20210213T230000Z
DTEND:20210214T010000Z
X-MICROSOFT-CDO-ALLDAYEVENT:FALSE
SUMMARY:Music at the Harriet Tubman Museum
DESCRIPTION:A new music series starts Feb. 13 from 6 to 8pm at the Harriet Tubman Museum and Educational Center in downtown Cambridge\, Maryland. Featuring Linda Harris (she is the woman who spearheaded a walk last fall traveling 116 miles of the Tubman Byway\; see We Walk With Harriet) and the Light Switch Band. Special Guest: Reggie Upshaw. The plan is to have a musical program at the museum the Second Saturday of each month.\n\nhttps://www.harriettubmanorganization.com/  |  Facebook
X-ALT-DESC;FMTTYPE=text/html:A new music series starts Feb. 13 from 6 to 8pm at the Harriet Tubman Museum and Educational Center in downtown Cambridge\, Maryland. Featuring Linda Harris (she is the woman who spearheaded a walk last fall traveling 116 miles of the Tubman Byway\; see We Walk With Harriet) and the Light Switch Band. Special Guest: Reggie Upshaw. The plan is to have a musical program at the museum the Second Saturday of each month.<br />\n<a href="https://www.harriettubmanorganization.com/"><span style="color:#0000FF\;">https://www.harriettubmanorganization.com/</span></a>&nbsp\; |&nbsp\; <a href="https://www.facebook.com/We-Walk-With-Harriet-101803101600204"><span style="color:#0000FF\;">Facebook</span></a>
LOCATION:Harriet Tubman Museum 424 Race Street\, Cambridge\, MD
UID:e.3422.6614
SEQUENCE:3
DTSTAMP:20260419T123818Z
URL:https://www.dorchesterchamber.org/events/details/music-at-the-harriet-tubman-museum-6614
END:VEVENT

END:VCALENDAR
