BEGIN:VCALENDAR
VERSION:2.0
PRODID:-//ChamberMaster//Event Calendar 2.0//EN
METHOD:PUBLISH
X-PUBLISHED-TTL:P3D
REFRESH-INTERVAL:P3D
CALSCALE:GREGORIAN
BEGIN:VEVENT
DTSTART:20260418T180000Z
DTEND:20260418T200000Z
X-MICROSOFT-CDO-ALLDAYEVENT:FALSE
SUMMARY:Historic Fashion Show - SOLD OUT
DESCRIPTION:In preserving and interpreting the legacy of the Cambridge Woman's Club\, Inc. we present a Historic Fashion Show\n\nJoin us\, as we walk back in time with the women of Dorchester County including fashion\, lifestyle\, music and more.\n\nLocal models * Live music * Refreshments $20/ticket\n\nSupports preservation projects & community service\n\nDonations/loan of vintage outfits accepted. Contact Ruth at 443-439-9037\n\nwww.cambridgewomansclub.com\n\nClick Here for Event Flyer
X-ALT-DESC;FMTTYPE=text/html:In preserving and interpreting the legacy of the Cambridge Woman&#39\;s Club\, Inc.&nbsp\;we present a Historic Fashion Show<br />\nJoin us\, as we walk back in time with the women of Dorchester County including fashion\, lifestyle\, music and more.<br />\nLocal models * Live music * Refreshments $20/ticket<br />\nSupports preservation projects &amp\; community service<br />\nDonations/loan of vintage outfits accepted. Contact Ruth at 443-439-9037<br />\n<a href="http://www.cambridgewomansclub.com"><span style="color:#0000FF\;">www.cambridgewomansclub.com</span></a><br />\n<a href="https://chambermaster.blob.core.windows.net/userfiles/UserFiles/chambers/3422/File/2026-3CWCFashionShow.pdf"><span style="color:#0000FF\;">Click Here for Event Flyer</span></a><br />\n&nbsp\;
LOCATION:The Cambridge Woman's Club\, Inc. 417 High Street Cambridge\, MD 21613
UID:e.3422.16523
SEQUENCE:3
DTSTAMP:20260421T085101Z
URL:https://www.dorchesterchamber.org/events/details/historic-fashion-show-sold-out-16523
END:VEVENT

END:VCALENDAR
