BEGIN:VCALENDAR
VERSION:2.0
PRODID:-//ChamberMaster//Event Calendar 2.0//EN
METHOD:PUBLISH
X-PUBLISHED-TTL:P3D
REFRESH-INTERVAL:P3D
CALSCALE:GREGORIAN
BEGIN:VEVENT
DTSTART:20260421T220000Z
DTEND:20260421T230000Z
X-MICROSOFT-CDO-ALLDAYEVENT:FALSE
SUMMARY:Dinner Bingo @ Chick-fil-A
DESCRIPTION:We've got Dabbin' Fever\n\nJoin us for Dinner Bingo on 4/21/2026 from 6-7 p.m. in the Chick-fil-A at Cambridge Markeplace dining room. It'll be packed with chicken\, smiles\, and winning bingo cards.\n\nIt's free to play! Bring the family and enjoy time spent winning some awesome Chick-fil-A prizes\n\nWe can't wait to see you!
X-ALT-DESC;FMTTYPE=text/html:We&#39\;ve got Dabbin&#39\; Fever<br />\nJoin us for Dinner Bingo on 4/21/2026 from 6-7 p.m. in the <a href="https://www.facebook.com/profile.php?id=61556168596987"><span style="color:#0000FF\;">Chick-fil-A at Cambridge Markeplace</span></a> dining room. It&#39\;ll be packed with chicken\, smiles\, and winning bingo cards.<br />\nIt&#39\;s free to play! Bring the family and enjoy time spent winning some awesome Chick-fil-A prizes<br />\nWe can&#39\;t wait to see you!<br />\n&nbsp\;
LOCATION:Chick-Fil-A at Cambridge Marketplace 705 Cambridge Marketplace Cambridge\, MD 21613
UID:e.3422.16676
SEQUENCE:3
DTSTAMP:20260421T083950Z
URL:https://www.dorchesterchamber.org/events/details/dinner-bingo-chick-fil-a-16676
END:VEVENT

END:VCALENDAR
