BEGIN:VCALENDAR
VERSION:2.0
PRODID:-//ChamberMaster//Event Calendar 2.0//EN
METHOD:PUBLISH
X-PUBLISHED-TTL:P3D
REFRESH-INTERVAL:P3D
CALSCALE:GREGORIAN
BEGIN:VEVENT
DTSTART:20260521T123000Z
DTEND:20260521T134500Z
X-MICROSOFT-CDO-ALLDAYEVENT:FALSE
SUMMARY:Chamber Member Orientation - May 2026
DESCRIPTION:Current Members - New Members - Future Members\n\nCome learn how to maximize the benefits of your \n\nChamber Membership and to gain an understanding of the value of the Chamber to the Business Community. \n\n \n\nThose who have attended prior events\, \n\nlong time members included\, have all learned something new by attending the Member Orientation Session.\n\n \n\nIf you are a member and bring a non-member to the event and they join the Chamber\, you will get a free pass for a\n\nBusiness Lunch or Breakfast and 1 free eBlast.\n\nRegistration is required.\n\nThis is a free session\; however\, registration is necessary so the room can be configured\, and breakfast can be ordered for the correct number of attendees.\n\nThis session will be held at the\n\nHurlock American Legion Post #243\n\n57 Legion Drive\, Hurlock\, MD 21643\n\nPlease click the Register button\, email us at info@dorchesterchamber.org\, or call 410-228-3575.
X-ALT-DESC;FMTTYPE=text/html:<div style="color: rgb(54\, 73\, 95)\; font-family: Arial\, Verdana\, Helvetica\, sans-serif\; font-size: 14px\; text-align: center\; white-space: pre-wrap\;"><span style="color:#000000\;"><span style="font-size: 20px\;">Current Members - New Members - Future Members<br />\nCome learn how to maximize the benefits of your </span></span></div>\n\n<div style="color: rgb(54\, 73\, 95)\; font-family: Arial\, Verdana\, Helvetica\, sans-serif\; font-size: 14px\; text-align: center\; white-space: pre-wrap\;"><span style="color:#000000\;"><span style="font-size: 20px\;">Chamber Membership and to gain an understanding of the value of the Chamber to the Business Community. </span></span></div>\n\n<div style="color: rgb(54\, 73\, 95)\; font-family: Arial\, Verdana\, Helvetica\, sans-serif\; font-size: 14px\; text-align: center\; white-space: pre-wrap\;">&nbsp\;</div>\n\n<div style="color: rgb(54\, 73\, 95)\; font-family: Arial\, Verdana\, Helvetica\, sans-serif\; font-size: 14px\; text-align: center\; white-space: pre-wrap\;"><span style="color:#000000\;"><span style="font-size: 20px\;">Those who have attended prior events\, </span></span></div>\n\n<div style="color: rgb(54\, 73\, 95)\; font-family: Arial\, Verdana\, Helvetica\, sans-serif\; font-size: 14px\; text-align: center\; white-space: pre-wrap\;"><span style="color:#000000\;"><span style="font-size: 20px\;">long time members included\, have all learned something new by attending the Member Orientation Session.</span></span></div>\n\n<div style="color: rgb(54\, 73\, 95)\; font-family: Arial\, Verdana\, Helvetica\, sans-serif\; font-size: 14px\; text-align: center\; white-space: pre-wrap\;">&nbsp\;</div>\n\n<div style="color: rgb(54\, 73\, 95)\; font-family: Arial\, Verdana\, Helvetica\, sans-serif\; font-size: 14px\; text-align: center\; white-space: pre-wrap\;"><span style="font-size:20px\;"><span style="color:#000000\;">If you are a member and bring a non-member to the event and they join the Chamber\, you will get a free pass for a<br />\nBusiness Lunch or Breakfast and 1 free eBlast.<br />\nRegistration is required.<br />\nThis is a free session\; however\, registration is necessary so the room can be configured\, and breakfast can be ordered for the correct number of attendees.<br />\nThis session will be held at the<br />\nHurlock American Legion Post #243<br />\n57 Legion Drive\, Hurlock\, MD 21643<br />\nPlease click the Register button\, email us at </span><a href="mailto:info@dorchesterchamber.org?subject=Register%20For%3A%20Chamber%20Member%20Orientation&amp\;body=Please%20register%20the%20following%20people%20for%20the%20Chamber%20Member%20Orientation%3A%0A%0A"><span style="color:#0000FF\;">info@dorchesterchamber.org</span></a>\, <span style="color:#000000\;">or call 410-228-3575.</span></span><br />\n&nbsp\;</div>\n
LOCATION:Hurlock American Legion Post 243 57 Legion Drive Hurlock\, MD 21643
UID:e.3422.16691
SEQUENCE:3
DTSTAMP:20260421T114430Z
URL:https://www.dorchesterchamber.org/events/details/chamber-member-orientation-may-2026-16691
END:VEVENT

END:VCALENDAR
