BEGIN:VCALENDAR
VERSION:2.0
PRODID:-//ChamberMaster//Event Calendar 2.0//EN
METHOD:PUBLISH
X-PUBLISHED-TTL:P3D
REFRESH-INTERVAL:P3D
CALSCALE:GREGORIAN
BEGIN:VEVENT
DTSTART:20190813T160000Z
DTEND:20190813T171500Z
X-MICROSOFT-CDO-ALLDAYEVENT:FALSE
SUMMARY:Chamber Business Lunch - Andy Harris
DESCRIPTION:Special Guest will be Congressman Andy Harris\, \n\nM.D. First District of Maryland.\n\nJoin us for lunch to meet Congressman Andy Harris and to hear his summary of the Congressional Session and potential impact on local business. Great venue with outstanding views and food. Meet with business leaders from Caroline\, Dorchester\, Talbot and Wicomico Counties. \n\nThis is a joint Chamber Lunch so be sure to login to insure you pay the member rate when purchasing your tickets.  Must register by August 7.\n\n\n\nPlease let us know of any special dietary needs in advance.\n\nRSVP is required.\n\nRSVP By Wednesday\, August 7: Members: $20\, Non-Members: $25. \n\nAs of Thursday\, August 8: Members: $25\, Non-Members $30\n\nCancellations must be made 24 hours in advance. Last minute cancellations will occur a charge unless a replacement can be found.
X-ALT-DESC;FMTTYPE=text/html:Special Guest will be Congressman Andy Harris\,&nbsp\;<br />\nM.D. First District of Maryland.<br />\nJoin us for lunch to meet Congressman Andy Harris and to hear his summary of the Congressional Session and potential impact on local business. Great venue with outstanding views and food. Meet with business leaders from Caroline\, Dorchester\, Talbot and Wicomico Counties.&nbsp\;<br />\nThis is a joint Chamber Lunch so be sure to login to insure you pay the member rate when purchasing your tickets.&nbsp\; <strong>Must register by August 7.</strong><br />\n<br />\nPlease let us know of any special dietary needs in advance.<br />\n<a href="https://www.dorchesterchamber.org/events/details/chamber-business-lunch-andy-harris-2636">RSVP is required.</a><br />\nRSVP By Wednesday\, August 7: Members: $20\, Non-Members: $25.&nbsp\;<br />\nAs of Thursday\, August 8: Members: $25\, Non-Members $30<br />\nCancellations must be made 24 hours in advance. Last minute cancellations will occur a charge unless a replacement can be found.
LOCATION:Suicide Bridge Restaurant 6304 Suicide Bridge Road Hurlock\, MD 21643
UID:e.3422.2636
SEQUENCE:3
DTSTAMP:20260419T133304Z
URL:https://www.dorchesterchamber.org/events/details/chamber-business-lunch-andy-harris-2636
END:VEVENT

END:VCALENDAR
