BEGIN:VCALENDAR
VERSION:2.0
PRODID:-//ChamberMaster//Event Calendar 2.0//EN
METHOD:PUBLISH
X-PUBLISHED-TTL:P3D
REFRESH-INTERVAL:P3D
CALSCALE:GREGORIAN
BEGIN:VEVENT
DTSTART:20260425T180000Z
DTEND:20260425T200000Z
X-MICROSOFT-CDO-ALLDAYEVENT:FALSE
SUMMARY:abstract Painting Class (Intuitive) with Susan King
DESCRIPTION:Join us for a creative and soul-nourishing evening of intuitive abstract painting with Susan King  \n\nIn this guided class\, you'll tap into your creativity\, release stress\, and express yourself freely through art no experience needed!\n\n	You'll create your own 11x14 abstract painting\n	All materials are provided\n	Relaxed\, supportive\, and inspiring atmosphere\n\nThis isn't about being "perfect" it's about letting go\, having fun\, and creating something uniquely YOU.\n\nFind more info on Facebook Event\n\nTickets Here
X-ALT-DESC;FMTTYPE=text/html:Join us for a creative and soul-nourishing evening of intuitive abstract painting with Susan King&nbsp\;&nbsp\;<br />\nIn this guided class\, you&rsquo\;ll tap into your creativity\, release stress\, and express yourself freely through art&mdash\;no experience needed!\n<ul>\n	<li>You&rsquo\;ll create your own 11x14 abstract painting</li>\n	<li>All materials are provided</li>\n	<li>Relaxed\, supportive\, and inspiring atmosphere</li>\n</ul>\nThis isn&rsquo\;t about being &ldquo\;perfect&rdquo\;&mdash\;it&rsquo\;s about letting go\, having fun\, and creating something uniquely YOU.<br />\n<a href="https://www.facebook.com/events/758212970575516/"><span style="color:#0000FF\;">Find more info on Facebook Event</span></a><br />\n<a href="https://checkout.square.site/merchant/MLS4QQAJG7ANQ/checkout/EKBK4WY7TOHU3W7LLZE3Y44X"><span style="color:#0000FF\;">Tickets Here</span></a>
LOCATION:The Star Child Family Trading Company 440 Race Street Cambridge\, MD 21613
UID:e.3422.16734
SEQUENCE:3
DTSTAMP:20260424T100026Z
URL:https://www.dorchesterchamber.org/events/details/abstract-painting-class-intuitive-with-susan-king-16734
END:VEVENT

END:VCALENDAR
